BEGIN:VCALENDAR
VERSION:2.0
PRODID:-//ChamberMaster//Event Calendar 2.0//EN
METHOD:PUBLISH
X-PUBLISHED-TTL:P3D
REFRESH-INTERVAL:P3D
CALSCALE:GREGORIAN
BEGIN:VEVENT
DTSTART:20260526T150000Z
DTEND:20260529T233000Z
X-MICROSOFT-CDO-ALLDAYEVENT:FALSE
SUMMARY:Warehouse Certificate Course
DESCRIPTION:Warehouse Certificate Course Course Highlights - CPR Certification\, Forklift Certification\, Safety & Logistics\, Employer Pannel: Q&A\, Job search & hiring strategies\, Warehouse Tour\, Business & Industry Fundamentals and Stipend up completion of program. Lunch is provided.
X-ALT-DESC;FMTTYPE=text/html:Warehouse Certificate Course Course Highlights - CPR Certification\, Forklift Certification\, Safety &amp\; Logistics\, Employer Pannel: Q&amp\;A\, Job search &amp\; hiring strategies\, Warehouse Tour\, Business &amp\; Industry Fundamentals and Stipend up completion of program. Lunch is provided.
LOCATION:Chemeketa Community College Building 4\, Room 222
UID:e.3216.7812
SEQUENCE:3
DTSTAMP:20260424T133957Z
URL:https://business.salemchamber.org/events/details/warehouse-certificate-course-7812
END:VEVENT

END:VCALENDAR
