BEGIN:VCALENDAR
VERSION:2.0
PRODID:-//ChamberMaster//Event Calendar 2.0//EN
METHOD:PUBLISH
X-PUBLISHED-TTL:P3D
REFRESH-INTERVAL:P3D
CALSCALE:GREGORIAN
BEGIN:VEVENT
DTSTART:20260607T023000Z
DTEND:20260607T040000Z
X-MICROSOFT-CDO-ALLDAYEVENT:FALSE
SUMMARY:Taimane
DESCRIPTION:With the fierceness of a rocker and the grace of a dancer\, Taimane's music demonstrates the enormous range of the ukulele\, stretching it far beyond the familiar melodies of her native Hawai`i. Whether delicately fingerpicking through Bach or radically ripping through Led Zeppelin\, Taimane can morph genres   from classical to rock to flamenco. She lights up rooms wherever she goes\, sparkling like the diamond that she is.
X-ALT-DESC;FMTTYPE=text/html:With the fierceness of a rocker and the grace of a dancer\, Taimane&#39\;s music demonstrates the enormous range of the ukulele\, stretching it far beyond the familiar melodies of her native Hawai`i. Whether delicately fingerpicking through Bach or radically ripping through Led Zeppelin\, Taimane can morph genres &ndash\; from classical to rock to flamenco. She lights up rooms wherever she goes\, sparkling like the diamond that she is.
LOCATION:Rice Auditorium 344 Knox St N Monmouth\, OR
UID:e.3216.7124
SEQUENCE:3
DTSTAMP:20260424T154125Z
URL:https://business.salemchamber.org/events/details/taimane-7124
END:VEVENT

END:VCALENDAR
