BEGIN:VCALENDAR
VERSION:2.0
PRODID:-//ChamberMaster//Event Calendar 2.0//EN
METHOD:PUBLISH
X-PUBLISHED-TTL:P3D
REFRESH-INTERVAL:P3D
CALSCALE:GREGORIAN
BEGIN:VEVENT
DTSTART:20260507T183000Z
DTEND:20260507T203000Z
X-MICROSOFT-CDO-ALLDAYEVENT:FALSE
SUMMARY:Taco Thursday
DESCRIPTION:Join for Taco Thursday! Enjoy delicious tacos and margaritas while you experience how life can be a little easier here at The Springs at Lancaster Village.
X-ALT-DESC;FMTTYPE=text/html:Join for Taco Thursday! Enjoy delicious tacos and margaritas while you experience how life can be a little easier here at The Springs at Lancaster Village.
LOCATION:4138 Market St NE Salem\, OR 97301
UID:e.3216.7738
SEQUENCE:3
DTSTAMP:20260424T135605Z
URL:https://business.salemchamber.org/events/details/taco-thursday-7738
END:VEVENT

END:VCALENDAR
