BEGIN:VCALENDAR
VERSION:2.0
PRODID:-//ChamberMaster//Event Calendar 2.0//EN
METHOD:PUBLISH
X-PUBLISHED-TTL:P3D
REFRESH-INTERVAL:P3D
CALSCALE:GREGORIAN
BEGIN:VEVENT
DTSTART:20260620T160000Z
DTEND:20260620T190000Z
X-MICROSOFT-CDO-ALLDAYEVENT:FALSE
SUMMARY:Superhero Run
DESCRIPTION:The Superhero Run returns! The Superhero Run Returns Saturday\, June 20\, 2026 to Salem Riverfront Park. Don't miss the annual superhero-themed run through Salem Riverfront Park! Kid-friendly and superhero-approved! Costumes STRONGLY ENCOURAGED. Join us for our free one-mile fun run\, or our ticketed 5k and 10k events. Yes\, we will be bringing back our Superhero Costume Contest (Adult and Youth Divisions)! Interested in volunteering or sponsoring? Email development@casamarionor.org.
X-ALT-DESC;FMTTYPE=text/html:The Superhero Run returns! The Superhero Run Returns Saturday\, June 20\, 2026 to Salem Riverfront Park. Don&#39\;t miss the annual superhero-themed run through Salem Riverfront Park! Kid-friendly and superhero-approved! Costumes STRONGLY ENCOURAGED. Join us for our free one-mile fun run\, or our ticketed 5k and 10k events. Yes\, we will be bringing back our Superhero Costume Contest (Adult and Youth Divisions)! Interested in volunteering or sponsoring? Email development@casamarionor.org.
LOCATION:Riverfront Park
UID:e.3216.7276
SEQUENCE:3
DTSTAMP:20260424T154157Z
URL:https://business.salemchamber.org/events/details/superhero-run-7276
END:VEVENT

END:VCALENDAR
