BEGIN:VCALENDAR
VERSION:2.0
PRODID:-//ChamberMaster//Event Calendar 2.0//EN
METHOD:PUBLISH
X-PUBLISHED-TTL:P3D
REFRESH-INTERVAL:P3D
CALSCALE:GREGORIAN
BEGIN:VEVENT
DTSTART:20251011T160000Z
DTEND:20251011T190000Z
X-MICROSOFT-CDO-ALLDAYEVENT:FALSE
SUMMARY:Steps to Safety 5k Walk/Run for Domestic Violence Awareness
DESCRIPTION:Join us for our Steps to Safety Walk/Run to bring more awareness to the issues of domestic and sexual violence. Our sponsors and participants contribute to our mission and support us in providing life-saving services to victims and survivors in our community. Your support changes lives. Who We Are: Center for Hope & Safety offers safe refuge and supporting to victims and survivors of domestic violence\, sexual assault\, stalking\, and human trafficking. Our programs and services inform survivors of their options and support them in their choices. A cornerstone of our philosophy is respect for the rights of all survivors. Our agency offers a 24-hour hotline\, emergency shelter\, community education\, and outreach. All proceeds benefit the Center for Hope & Safety and the Marion County Domestic Violence Council.
X-ALT-DESC;FMTTYPE=text/html:Join us for our Steps to Safety Walk/Run to bring more awareness to the issues of domestic and sexual violence. Our sponsors and participants contribute to our mission and support us in providing life-saving services to victims and survivors in our community. Your support changes lives. Who We Are: Center for Hope &amp\; Safety offers safe refuge and supporting to victims and survivors of domestic violence\, sexual assault\, stalking\, and human trafficking. Our programs and services inform survivors of their options and support them in their choices. A cornerstone of our philosophy is respect for the rights of all survivors. Our agency offers a 24-hour hotline\, emergency shelter\, community education\, and outreach. All proceeds benefit the Center for Hope &amp\; Safety and the Marion County Domestic Violence Council.
LOCATION:4190 Aumsville Hwy SE\, Salem\, OR 97317
UID:e.3216.7132
SEQUENCE:3
DTSTAMP:20260421T221537Z
URL:https://business.salemchamber.org/events/details/steps-to-safety-5k-walk-run-for-domestic-violence-awareness-7132
END:VEVENT

END:VCALENDAR
