BEGIN:VCALENDAR
VERSION:2.0
PRODID:-//ChamberMaster//Event Calendar 2.0//EN
METHOD:PUBLISH
X-PUBLISHED-TTL:P3D
REFRESH-INTERVAL:P3D
CALSCALE:GREGORIAN
BEGIN:VEVENT
DTSTART:20260504T000000Z
DTEND:20260504T023000Z
X-MICROSOFT-CDO-ALLDAYEVENT:FALSE
SUMMARY:St. Joseph the Worker Fundraising Dinner
DESCRIPTION:St. Joseph the Worker Fundraising Dinner supports CCSWV's vital programs\, including St. Joseph Family Shelter and Mission Benedict\, which provide housing\, meals\, clothing\, childcare\, and supportive services to families working toward stability and self-sufficiency. For more than 30 years\, these programs have served as a cornerstone of support for vulnerable families in the Willamette Valley. The evening will begin with a social hour at 5:00 p.m.\, followed by dinner at 6:00 p.m. Activities include a silent auction\, wine and coffee pull and a homestyle dinner.
X-ALT-DESC;FMTTYPE=text/html:St. Joseph the Worker Fundraising Dinner supports CCSWV&rsquo\;s vital programs\, including St. Joseph Family Shelter and Mission Benedict\, which provide housing\, meals\, clothing\, childcare\, and supportive services to families working toward stability and self-sufficiency. For more than 30 years\, these programs have served as a cornerstone of support for vulnerable families in the Willamette Valley. The evening will begin with a social hour at 5:00 p.m.\, followed by dinner at 6:00 p.m. Activities include a silent auction\, wine and coffee pull and a homestyle dinner.
LOCATION:St. Mary Parish Center 575 E College St Mount Angel\, OR 97362
UID:e.3216.7810
SEQUENCE:3
DTSTAMP:20260424T134218Z
URL:https://business.salemchamber.org/events/details/st-joseph-the-worker-fundraising-dinner-7810
END:VEVENT

END:VCALENDAR
