BEGIN:VCALENDAR
VERSION:2.0
PRODID:-//ChamberMaster//Event Calendar 2.0//EN
METHOD:PUBLISH
X-PUBLISHED-TTL:P3D
REFRESH-INTERVAL:P3D
CALSCALE:GREGORIAN
BEGIN:VEVENT
DTSTART:20260522T160000Z
DTEND:20260522T203000Z
X-MICROSOFT-CDO-ALLDAYEVENT:FALSE
SUMMARY:SERVPRO Team McGinnis Continuing Education - Scratch & Sniff: Odors\, Mitigation\, and Airflow 5/22/2026
DESCRIPTION:05/22/2026\n\n \n\nScratch & Sniff: Odors\, Mitigation\, and Airflow\n\nFREE Continuing Education Class\n\n4 Credits\n\n \n\n9:00am - 1:30pm \n\nSERVPRO of Salem West\n859 7th St\, Salem\, Oregon 97304
X-ALT-DESC;FMTTYPE=text/html:<div>05/22/2026</div>\n\n<div>&nbsp\;</div>\n\n<div>Scratch &amp\; Sniff: Odors\, Mitigation\, and Airflow</div>\n\n<div>FREE Continuing Education Class</div>\n\n<div>4 Credits</div>\n\n<div>&nbsp\;</div>\n\n<div>9:00am - 1:30pm&nbsp\;</div>\n\n<div>SERVPRO of Salem West\n<div>859 7th St\, Salem\, Oregon 97304</div>\n</div>\n
LOCATION:SERVPRO of Salem West 859 7th St\, Salem\, Oregon 97304
UID:e.3216.7822
SEQUENCE:3
DTSTAMP:20260424T134847Z
URL:https://business.salemchamber.org/events/details/servpro-team-mcginnis-continuing-education-scratch-sniff-odors-mitigation-and-airflow-5-22-2026-7822
END:VEVENT

END:VCALENDAR
