BEGIN:VCALENDAR
VERSION:2.0
PRODID:-//ChamberMaster//Event Calendar 2.0//EN
METHOD:PUBLISH
X-PUBLISHED-TTL:P3D
REFRESH-INTERVAL:P3D
CALSCALE:GREGORIAN
BEGIN:VEVENT
DTSTART:20260828T160000Z
DTEND:20260828T203000Z
X-MICROSOFT-CDO-ALLDAYEVENT:FALSE
SUMMARY:SERVPRO Team McGinnis Continuing Education - Rage Against the Machine: A discussion of Oregon's Financial Education Graduation Requirement & Agency Management: Hiring and Coaching New Team Members and Continuing Designations as Education 8/28/2026
DESCRIPTION:SERVPRO Team McGinnis Continuing Education -  Rage Against the Machine: A discussion of Oregon's Financial Education Graduation Requirement & Agency Management: Hiring and Coaching New Team Members and Continuing Designations as Education\n\n \n\n9:00am - 1:30pm \n\nSERVPRO of Salem West\n\n859 7th St\, Salem\, Oregon 97304\n\n \n\nFree\, coffee and light refreshments and lunch are provided.
X-ALT-DESC;FMTTYPE=text/html:<p>&nbsp\;<a href="https://salemchamber.chambermaster.com/mic/events/edit/7782?memId=5479&amp\;repId=40240">SERVPRO Team McGinnis Continuing Education -</a>&nbsp\; Rage Against the Machine: A discussion of Oregon&#39\;s Financial Education Graduation Requirement &amp\; Agency Management: Hiring and Coaching New Team Members and Continuing Designations as Education</p>\n\n<p>&nbsp\;</p>\n\n<p>9:00am - 1:30pm&nbsp\;</p>\n\n<p>SERVPRO of Salem West</p>\n\n<p>859 7th St\, Salem\, Oregon 97304</p>\n\n<p>&nbsp\;</p>\n\n<p>Free\, coffee and light refreshments and lunch are provided.</p>\n
LOCATION:SERVPRO of Salem West 859 7th St\, Salem\, Oregon 97304
UID:e.3216.7825
SEQUENCE:3
DTSTAMP:20260424T183525Z
URL:https://business.salemchamber.org/events/details/servpro-team-mcginnis-continuing-education-rage-against-the-machine-a-discussion-of-oregon-s-financial-education-graduation-requirement-agency-management-hiring-and-coaching-new-team-members-and-continuing-designations-as-education-8-28-2026-7825
END:VEVENT

END:VCALENDAR
