BEGIN:VCALENDAR
VERSION:2.0
PRODID:-//ChamberMaster//Event Calendar 2.0//EN
METHOD:PUBLISH
X-PUBLISHED-TTL:P3D
REFRESH-INTERVAL:P3D
CALSCALE:GREGORIAN
BEGIN:VEVENT
DTSTART:20260731T160000Z
DTEND:20260731T223000Z
X-MICROSOFT-CDO-ALLDAYEVENT:FALSE
SUMMARY:SERVPRO Team McGinnis Continuing Education - Law & Ethics 7/31/26
DESCRIPTION:SERVPRO Team McGinnis Continuing Education - Law & Ethics\n\n \n\n7/31/2026 \n\nLaw & Ethics\n\nContinuing Education Class\n\n6 Credits\n\n \n\n9:00am - 3:30pm\n\nSERVPRO of Salem West\n\n859 7th St\, Salem\, Oregon 97304\n\n\n\nFree\, coffee and light refreshments and lunch are provided.
X-ALT-DESC;FMTTYPE=text/html:<p>&nbsp\;<a href="https://salemchamber.chambermaster.com/mic/events/edit/7782?memId=5479&amp\;repId=40240">SERVPRO Team McGinnis Continuing Education -</a> Law &amp\; Ethics</p>\n\n<p>&nbsp\;</p>\n\n<p>7/31/2026&nbsp\;</p>\n\n<p>Law &amp\; Ethics</p>\n\n<p>Continuing Education Class</p>\n\n<p>6 Credits</p>\n\n<p>&nbsp\;</p>\n\n<p>9:00am - 3:30pm</p>\n\n<p>SERVPRO of Salem West</p>\n\n<p>859 7th St\, Salem\, Oregon 97304<br />\n<br />\nFree\, coffee and light refreshments and lunch are provided.</p>\n
LOCATION:SERVPRO of Salem West 859 7th St\, Salem\, Oregon 97304
UID:e.3216.7824
SEQUENCE:3
DTSTAMP:20260424T165740Z
URL:https://business.salemchamber.org/events/details/servpro-team-mcginnis-continuing-education-law-ethics-7-31-26-7824
END:VEVENT

END:VCALENDAR
