BEGIN:VCALENDAR
VERSION:2.0
PRODID:-//ChamberMaster//Event Calendar 2.0//EN
METHOD:PUBLISH
X-PUBLISHED-TTL:P3D
REFRESH-INTERVAL:P3D
CALSCALE:GREGORIAN
BEGIN:VEVENT
DTSTART:20260626T160000Z
DTEND:20260626T203000Z
X-MICROSOFT-CDO-ALLDAYEVENT:FALSE
SUMMARY:SERVPRO Team McGinnis Continuing Education - Continuing Insurance Basics \, A Brief History of Insurance\, and Homeowners & Fire Claims 6/26/26
DESCRIPTION:SERVPRO Team McGinnis Continuing Education - Continuing Insurance Basics\, A Brief History of Insurance\, and Homeowners & Fire Claims\n\n \n\n6/26/2026\n\n \n\n9:00am - 1:30pm \n\nSERVPRO of Salem West\n\n859 7th St\, Salem\, Oregon 97304\n\n \n\nFree\, coffee and light refreshments and lunch are provided.
X-ALT-DESC;FMTTYPE=text/html:<p><a href="https://salemchamber.chambermaster.com/mic/events/edit/7782?memId=5479&amp\;repId=40240">SERVPRO Team McGinnis Continuing Education -</a> Continuing Insurance Basics\, A Brief History of Insurance\, and Homeowners &amp\; Fire Claims</p>\n\n<p>&nbsp\;</p>\n\n<p>6/26/2026</p>\n\n<p>&nbsp\;</p>\n\n<p>9:00am - 1:30pm&nbsp\;</p>\n\n<p>SERVPRO of Salem West</p>\n\n<p>859 7th St\, Salem\, Oregon 97304</p>\n\n<p>&nbsp\;</p>\n\n<p>Free\, coffee and light refreshments and lunch are provided.</p>\n
LOCATION:SERVPRO of Salem West 859 7th St\, Salem\, Oregon 97304
UID:e.3216.7823
SEQUENCE:3
DTSTAMP:20260424T152548Z
URL:https://business.salemchamber.org/events/details/servpro-team-mcginnis-continuing-education-continuing-insurance-basics-a-brief-history-of-insurance-and-homeowners-fire-claims-6-26-26-7823
END:VEVENT

END:VCALENDAR
