BEGIN:VCALENDAR
VERSION:2.0
PRODID:-//ChamberMaster//Event Calendar 2.0//EN
METHOD:PUBLISH
X-PUBLISHED-TTL:P3D
REFRESH-INTERVAL:P3D
CALSCALE:GREGORIAN
BEGIN:VEVENT
DTSTART:20260528T210000Z
DTEND:20260528T230000Z
X-MICROSOFT-CDO-ALLDAYEVENT:FALSE
SUMMARY:Salem 50+ Job Fair
DESCRIPTION:Multiple Employers - Variety of Positions! Workshops on-site for: Modern Interview Practices & Resume Review
X-ALT-DESC;FMTTYPE=text/html:Multiple Employers - Variety of Positions! Workshops on-site for: Modern Interview Practices &amp\; Resume Review
LOCATION:Salem Goodwill Job Connection 3535 Lancaster Dr. NE Salem\, OR 97305
UID:e.3216.7821
SEQUENCE:3
DTSTAMP:20260424T134642Z
URL:https://business.salemchamber.org/events/details/salem-50-job-fair-7821
END:VEVENT

END:VCALENDAR
