BEGIN:VCALENDAR
VERSION:2.0
PRODID:-//ChamberMaster//Event Calendar 2.0//EN
METHOD:PUBLISH
X-PUBLISHED-TTL:P3D
REFRESH-INTERVAL:P3D
CALSCALE:GREGORIAN
BEGIN:VEVENT
DTSTART:20251010T190000Z
DTEND:20251010T193000Z
X-MICROSOFT-CDO-ALLDAYEVENT:FALSE
SUMMARY:Ribbon Cutting - The Recovery Village Salem
DESCRIPTION:The Recovery Village Salem is the leading rehabilitation center for substance use and mental health disorders\, where cutting-edge technology and exceptional care work together to provide effective treatment. Our programs\, rooted in proven methods\, deliver measurable results in the heart of Salem. \n\n\n\nWe emphasize a true sense of community at The Recovery Village Salem\, helping patients form meaningful connections with support networks and engage in ongoing therapy. Many individuals develop lasting bonds with their peers as they work toward recovery from substance use and mental health disorders.\n\n\n\nOur facility offers a serene\, healing environment that allows patients to escape the distractions of everyday life. With inviting accommodations and comfortable treatment areas\, our center helps you stay focused on your recovery\, supported by a team of compassionate professionals.
X-ALT-DESC;FMTTYPE=text/html:The Recovery Village Salem is the leading rehabilitation center for substance use and mental health disorders\, where cutting-edge technology and exceptional care work together to provide effective treatment. Our programs\, rooted in proven methods\, deliver measurable results in the heart of Salem.&nbsp\;<br />\n<br />\nWe emphasize a true sense of community at The Recovery Village Salem\, helping patients form meaningful connections with support networks and engage in ongoing therapy. Many individuals develop lasting bonds with their peers as they work toward recovery from substance use and mental health disorders.<br />\n<br />\nOur facility offers a serene\, healing environment that allows patients to escape the distractions of everyday life. With inviting accommodations and comfortable treatment areas\, our center helps you stay focused on your recovery\, supported by a team of compassionate professionals.
LOCATION:The Recovery Village Salem 309 Lancaster Dr NE\, Salem\, Oregon 97301
UID:e.3216.7183
SEQUENCE:3
DTSTAMP:20260421T084340Z
URL:https://business.salemchamber.org/events/details/ribbon-cutting-the-recovery-village-salem-7183
END:VEVENT

END:VCALENDAR
