BEGIN:VCALENDAR
VERSION:2.0
PRODID:-//ChamberMaster//Event Calendar 2.0//EN
METHOD:PUBLISH
X-PUBLISHED-TTL:P3D
REFRESH-INTERVAL:P3D
CALSCALE:GREGORIAN
BEGIN:VEVENT
DTSTART:20260501T180000Z
DTEND:20260501T183000Z
X-MICROSOFT-CDO-ALLDAYEVENT:FALSE
SUMMARY:Ribbon Cutting - Mountain View Plumbing
DESCRIPTION:Family-owned and operated since 2019\, Mountain View Plumbing has proudly served Salem\, Oregon\, and nearby communities with reliable\, affordable plumbing solutions. Plumbing isn't just our trade   it's our family legacy. With decades of combined experience\, our crew delivers honest service\, quality workmanship\, and long-lasting results for every customer.
X-ALT-DESC;FMTTYPE=text/html:Family-owned and operated since 2019\, Mountain View Plumbing has proudly served Salem\, Oregon\, and nearby communities with reliable\, affordable plumbing solutions. Plumbing isn&rsquo\;t just our trade &mdash\; it&rsquo\;s our family legacy. With decades of combined experience\, our crew delivers honest service\, quality workmanship\, and long-lasting results for every customer.
LOCATION:Salem Area Chamber of Commerce 1110 Commercial St NE\, Salem\, OR 97301
UID:e.3216.7808
SEQUENCE:3
DTSTAMP:20260424T134800Z
URL:https://business.salemchamber.org/events/details/ribbon-cutting-mountain-view-plumbing-7808
END:VEVENT

END:VCALENDAR
