BEGIN:VCALENDAR
VERSION:2.0
PRODID:-//ChamberMaster//Event Calendar 2.0//EN
METHOD:PUBLISH
X-PUBLISHED-TTL:P3D
REFRESH-INTERVAL:P3D
CALSCALE:GREGORIAN
BEGIN:VEVENT
DTSTART:20260411T023000Z
DTEND:20260411T043000Z
X-MICROSOFT-CDO-ALLDAYEVENT:FALSE
SUMMARY:Oregon Sympony in Salem - Ravel & Saint-Saëns
DESCRIPTION:Overview\n\n\nA bracing whack from the percussionist's "slap stick" launches Ravel's Concerto on an effervescent romp\, evoking the Harlem jazz clubs he visited with Gershwin. Riffs from the brasses and piano fireworks make for a breathless dash to the finish. Ravel's lush Daphnis et Chlo  opens with a radiant sunrise golden strings\, shimmering harps\, bird calls and ends with an orgiastic paean to love. \n\nAbout the Show\n\n\n\n	INGRID FLITER PIANO\n\n\n\nSAINT-SA NS LE ROUET D'OMPHALE (THE SPINNING WHEEL OF OMPHALE)\n\nRAVEL PIANO CONCERTO IN G MAJOR\n\nRAVEL DAPHNIS ET CHLO  (COMPLETE)\n\nTickets\n\n\n$39-$55 | $10 Students\n\n$0 Willamette University Staff & Students\n\nAdditional tickets discount information here\n\nTicket Office Phone Hours:\n\n503-228-1353\n\nMonday   Friday 10 AM   8 PM\n\nConcert Saturdays 1 PM   6 PM
X-ALT-DESC;FMTTYPE=text/html:<h2><strong>Overview</strong></h2>\n\n<div>\n<p style="margin-left:0px\; margin-right:0px">A bracing whack from the percussionist&rsquo\;s &ldquo\;slap stick&rdquo\; launches Ravel&rsquo\;s Concerto on an effervescent romp\, evoking the Harlem jazz clubs he visited with Gershwin. Riffs from the brasses and piano fireworks make for a breathless dash to the finish. Ravel&rsquo\;s lush&nbsp\;<em>Daphnis et Chlo&eacute\;</em>&nbsp\;opens with a radiant sunrise&mdash\;golden strings\, shimmering harps\, bird calls&mdash\;and ends with an orgiastic paean to love.&nbsp\;</p>\n\n<h2><strong>About the Show</strong></h2>\n\n<div>\n<ul>\n	<li><span style="font-size:12px"><a href="https://www.orsymphony.org/productions/2526/ravel-and-saint-saens#artists" style="box-sizing: border-box\; touch-action: manipulation\; color: var(--color-text-link)\; text-decoration-skip-ink: auto\; transition: color var(--trs-time) var(--trs-tfunc)\; text-decoration: none\;"><strong>INGRID FLITER</strong>&nbsp\;<span style="font-family:var(--ff)">PIANO</span></a></span></li>\n</ul>\n</div>\n\n<div><span style="font-size:12px"><a href="https://www.orsymphony.org/productions/2526/ravel-and-saint-saens#pieces" style="box-sizing: border-box\; touch-action: manipulation\; color: var(--color-text-link)\; text-decoration-skip-ink: auto\; transition: color var(--trs-time) var(--trs-tfunc)\; text-decoration: none\;"><strong><span style="font-family:var(--ff)">SAINT-SA&Euml\;NS</span></strong>&nbsp\;LE ROUET D&rsquo\;OMPHALE (THE SPINNING WHEEL OF OMPHALE)</a></span><br />\n<a href="https://www.orsymphony.org/productions/2526/ravel-and-saint-saens#pieces" style="font-size: 12px\; box-sizing: border-box\; touch-action: manipulation\; color: rgb(51\, 51\, 51)\; text-decoration-skip-ink: auto\; transition: color var(--trs-time) var(--trs-tfunc)\; text-decoration: none\;"><strong><span style="font-family:var(--ff)">RAVEL</span></strong>&nbsp\;PIANO CONCERTO IN G MAJOR<br />\n<strong><span style="font-family:var(--ff)">RAVEL</span></strong>&nbsp\;DAPHNIS ET CHLO&Eacute\; (COMPLETE)</a>\n\n<h2><strong>Tickets</strong></h2>\n\n<div>\n<p>$39-$55 | $10 Students<br />\n$0 Willamette University Staff &amp\; Students</p>\n\n<p>Additional tickets discount information&nbsp\;<a href="https://www.orsymphony.org/special-offers-and-deals">here</a></p>\n\n<p><strong>Ticket Office Phone Hours:</strong></p>\n\n<p>503-228-1353</p>\n\n<p>Monday &ndash\; Friday 10 AM &ndash\; 8 PM<br />\nConcert Saturdays 1 PM &ndash\; 6 PM</p>\n</div>\n</div>\n</div>\n
LOCATION:Smith Auditorium at Willamette University 270 Winter St SE\, Salem\, OR 97301
UID:e.3216.7223
SEQUENCE:3
DTSTAMP:20260424T124332Z
URL:https://business.salemchamber.org/events/details/oregon-sympony-ravel-saint-sa&#235;ns-7223
END:VEVENT

END:VCALENDAR
