BEGIN:VCALENDAR
VERSION:2.0
PRODID:-//ChamberMaster//Event Calendar 2.0//EN
METHOD:PUBLISH
X-PUBLISHED-TTL:P3D
REFRESH-INTERVAL:P3D
CALSCALE:GREGORIAN
BEGIN:VEVENT
DTSTART:20260516T023000Z
DTEND:20260516T043000Z
X-MICROSOFT-CDO-ALLDAYEVENT:FALSE
SUMMARY:Oregon Symphony in Salem - Copland & Rachmaninoff
DESCRIPTION:Overview\n\n\nFasten your seatbelt as Alessio Bax tackles Rachmaninoff's Piano Concerto No. 3\, a creation of massive power and drive and one of the hardest-to-master works in the repertoire. After its premiere in New York City\, a critic wrote that "its great length and extreme difficulties bar it from performances by any but pianists of exceptional technical powers." Its quiet start leads into an astonishing unleashing of notes and hurtles to a riveting conclusion. Copland's Third Symphony also was first presented in the U.S. Its spirit is undeniably "American" vital\, optimistic\, and big-hearted triumphantly exclaimed in the finale's stirring "Fanfare for the Common Man."\n\n\n\n \n\nAbout the Show\n\n\n\n	MATTHIAS PINTSCHER CONDUCTOR\n	ALESSIO BAX PIANO\n\n\n\nRACHMANINOFF PIANO CONCERTO NO. 3\n\nCOPLAND SYMPHONY NO. 3\n\n \nTickets\n\n\n$39-$55 | $10 Students\n\n$0 Willamette University Staff & Students\n\nAdditional tickets discount information here\n\nTicket Office Phone Hours:\n\n503-228-1353\n\nMonday   Friday 10 AM   8 PM\n\nConcert Saturdays 1 PM   6 PM
X-ALT-DESC;FMTTYPE=text/html:<h2>Overview</h2>\n\n<div>\n<p style="margin-left:0px\; margin-right:0px">Fasten your seatbelt as Alessio Bax tackles Rachmaninoff&rsquo\;s Piano Concerto No. 3\, a creation of massive power and drive and one of the hardest-to-master works in the repertoire. After its premiere in New York City\, a critic wrote that &ldquo\;its great length and extreme difficulties bar it from performances by any but pianists of exceptional technical powers.&rdquo\; Its quiet start leads into an astonishing unleashing of notes and hurtles to a riveting conclusion. Copland&rsquo\;s Third Symphony also was first presented in the U.S. Its spirit is undeniably &ldquo\;American&rdquo\;&mdash\;vital\, optimistic\, and big-hearted&mdash\;triumphantly exclaimed in the finale&rsquo\;s stirring &ldquo\;Fanfare for the Common Man.&rdquo\;<br />\n<br />\n&nbsp\;</p>\n\n<h2>About the Show</h2>\n\n<div>\n<ul>\n	<li><span style="font-size:12px"><a href="https://www.orsymphony.org/productions/2526/copland-and-rachmaninoff#artists" style="box-sizing: border-box\; touch-action: manipulation\; color: var(--color-text-link)\; text-decoration-skip-ink: auto\; transition: color var(--trs-time) var(--trs-tfunc)\; text-decoration: none\;"><strong>MATTHIAS PINTSCHER</strong>&nbsp\;<span style="font-family:var(--ff)">CONDUCTOR</span></a></span></li>\n	<li><span style="font-size:12px"><a href="https://www.orsymphony.org/productions/2526/copland-and-rachmaninoff#artists" style="box-sizing: border-box\; touch-action: manipulation\; color: var(--color-text-link)\; text-decoration-skip-ink: auto\; transition: color var(--trs-time) var(--trs-tfunc)\; text-decoration: none\;"><strong>ALESSIO BAX</strong>&nbsp\;<span style="font-family:var(--ff)">PIANO</span></a></span></li>\n</ul>\n</div>\n\n<div><span style="font-size:12px"><a href="https://www.orsymphony.org/productions/2526/copland-and-rachmaninoff#pieces" style="box-sizing: border-box\; touch-action: manipulation\; color: var(--color-text-link)\; text-decoration-skip-ink: auto\; transition: color var(--trs-time) var(--trs-tfunc)\; text-decoration: none\;"><strong><span style="font-family:var(--ff)">RACHMANINOFF</span></strong>&nbsp\;PIANO CONCERTO NO. 3</a></span><br />\n<a href="https://www.orsymphony.org/productions/2526/copland-and-rachmaninoff#pieces" style="font-size: 12px\; box-sizing: border-box\; touch-action: manipulation\; color: rgb(51\, 51\, 51)\; text-decoration-skip-ink: auto\; transition: color var(--trs-time) var(--trs-tfunc)\; text-decoration: none\;"><strong><span style="font-family:var(--ff)">COPLAND</span></strong>&nbsp\;SYMPHONY NO. 3</a><br />\n&nbsp\;\n<h2><strong>Tickets</strong></h2>\n\n<div>\n<p>$39-$55 | $10 Students<br />\n$0 Willamette University Staff &amp\; Students</p>\n\n<p>Additional tickets discount information&nbsp\;<a href="https://www.orsymphony.org/special-offers-and-deals">here</a></p>\n\n<p><strong>Ticket Office Phone Hours:</strong></p>\n\n<p>503-228-1353</p>\n\n<p>Monday &ndash\; Friday 10 AM &ndash\; 8 PM<br />\nConcert Saturdays 1 PM &ndash\; 6 PM</p>\n</div>\n</div>\n</div>\n
LOCATION:Smith Auditorium at Willamette University 270 Winter St SE\, Salem\, OR 97301
UID:e.3216.7226
SEQUENCE:3
DTSTAMP:20260424T135850Z
URL:https://business.salemchamber.org/events/details/oregon-symphony-copland-rachmaninoff-7226
END:VEVENT

END:VCALENDAR
