BEGIN:VCALENDAR
VERSION:2.0
PRODID:-//ChamberMaster//Event Calendar 2.0//EN
METHOD:PUBLISH
X-PUBLISHED-TTL:P3D
REFRESH-INTERVAL:P3D
CALSCALE:GREGORIAN
BEGIN:VEVENT
DTSTART:20260917T190000Z
DTEND:20260917T210000Z
X-MICROSOFT-CDO-ALLDAYEVENT:FALSE
SUMMARY:Oktoberfest Event
DESCRIPTION:Join us for our Oktoberfest event on Thursday September 17th 12-2pm. Lunch and refreshments will be provided. WE will also have themed band for entertainment.
X-ALT-DESC;FMTTYPE=text/html:Join us for our Oktoberfest event on Thursday September 17th 12-2pm. Lunch and refreshments will be provided. WE will also have themed band for entertainment.
LOCATION:4138 Market St NE Salem OR 97301
UID:e.3216.7741
SEQUENCE:3
DTSTAMP:20260424T200952Z
URL:https://business.salemchamber.org/events/details/oktoberfest-event-7741
END:VEVENT

END:VCALENDAR
