BEGIN:VCALENDAR
VERSION:2.0
PRODID:-//ChamberMaster//Event Calendar 2.0//EN
METHOD:PUBLISH
X-PUBLISHED-TTL:P3D
REFRESH-INTERVAL:P3D
CALSCALE:GREGORIAN
BEGIN:VEVENT
DTSTART:20260618T003000Z
DTEND:20260618T023000Z
X-MICROSOFT-CDO-ALLDAYEVENT:FALSE
SUMMARY:National Association of Women in Construction - Salem Chapter #198 - General Meeting
DESCRIPTION:The National Association of Women in Construction (NAWIC) Salem Chapter #198 meets every third Wednesday of the month.
X-ALT-DESC;FMTTYPE=text/html:<p>The National Association of Women in Construction (NAWIC) Salem Chapter #198 meets every third Wednesday of the month.&nbsp\;</p>\n\n<p>&nbsp\;</p>\n
LOCATION:Broadway Commons - Mexico Room\, 3rd Floor 1300 Broadway St. NE\, Salem OR
UID:e.3216.7552
SEQUENCE:3
DTSTAMP:20260424T161159Z
URL:https://business.salemchamber.org/events/details/national-association-of-women-in-construction-salem-chapter-198-06-17-2026-7552
END:VEVENT

END:VCALENDAR
