BEGIN:VCALENDAR
VERSION:2.0
PRODID:-//ChamberMaster//Event Calendar 2.0//EN
METHOD:PUBLISH
X-PUBLISHED-TTL:P3D
REFRESH-INTERVAL:P3D
CALSCALE:GREGORIAN
BEGIN:VEVENT
DTSTART:20260428T183000Z
DTEND:20260428T200000Z
X-MICROSOFT-CDO-ALLDAYEVENT:FALSE
SUMMARY:Helping Women Plan with Purpose - Conversations around Money\, Legacy & Life
DESCRIPTION:Join us for a free community education event designed to empower women with practical tools for financial and legal planning. Hosted by Willamette Wealth Collective - a collaboration of local women-led firms committed to accessible\, values-driven guidance - this event offers thoughtful insight in a welcoming\, sales-pitch-free space. Grab your lunch and join us on Zoom to learn\, connect\, and explore strategies tailored to life's most meaningful transitions.
X-ALT-DESC;FMTTYPE=text/html:Join us for a free community education event designed to empower women with practical tools for financial and legal planning. Hosted by Willamette Wealth Collective - a collaboration of local women-led firms committed to accessible\, values-driven guidance - this event offers thoughtful insight in a welcoming\, sales-pitch-free space. Grab your lunch and join us on Zoom to learn\, connect\, and explore strategies tailored to life&#39\;s most meaningful transitions.
LOCATION:Zoom
UID:e.3216.7829
SEQUENCE:3
DTSTAMP:20260426T022542Z
URL:https://business.salemchamber.org/events/details/helping-women-plan-with-purpose-conversations-around-money-legacy-life-7829
END:VEVENT

END:VCALENDAR
