BEGIN:VCALENDAR
VERSION:2.0
PRODID:-//ChamberMaster//Event Calendar 2.0//EN
METHOD:PUBLISH
X-PUBLISHED-TTL:P3D
REFRESH-INTERVAL:P3D
CALSCALE:GREGORIAN
BEGIN:VEVENT
DTSTART:20260820T190000Z
DTEND:20260820T210000Z
X-MICROSOFT-CDO-ALLDAYEVENT:FALSE
SUMMARY:Hawaiian Luau
DESCRIPTION:Live Music & Lunch Buffet The Springs at Lancaster Village would like to invite you to a hawaiian themed night of fun and festivities.
X-ALT-DESC;FMTTYPE=text/html:Live Music &amp\; Lunch Buffet The Springs at Lancaster Village would like to invite you to a hawaiian themed night of fun and festivities.
LOCATION:4138 Market St NE Salem\, OR 97301
UID:e.3216.7739
SEQUENCE:3
DTSTAMP:20260424T183828Z
URL:https://business.salemchamber.org/events/details/hawaiian-luau-7739
END:VEVENT

END:VCALENDAR
