BEGIN:VCALENDAR
VERSION:2.0
PRODID:-//ChamberMaster//Event Calendar 2.0//EN
METHOD:PUBLISH
X-PUBLISHED-TTL:P3D
REFRESH-INTERVAL:P3D
CALSCALE:GREGORIAN
BEGIN:VEVENT
DTSTART:20261004T000000Z
DTEND:20261004T050000Z
X-MICROSOFT-CDO-ALLDAYEVENT:FALSE
SUMMARY:Garten Gala
DESCRIPTION:Join us on Saturday\, October 3rd from 5 10 PM at the Salem Convention Center for an evening of impact and celebrating employment for youth with disabilities. Enjoy a delicious dinner\, live entertainment\, and a vibrant atmosphere all in support of a powerful cause. All proceeds benefit youth with disabilities\, helping create pathways to opportunity and inclusion.
X-ALT-DESC;FMTTYPE=text/html:Join us on Saturday\, October 3rd from 5&ndash\;10 PM at the Salem Convention Center for an evening of impact and celebrating employment for youth with disabilities. Enjoy a delicious dinner\, live entertainment\, and a vibrant atmosphere&mdash\;all in support of a powerful cause. All proceeds benefit youth with disabilities\, helping create pathways to opportunity and inclusion.
LOCATION:Salem Convention Center
UID:e.3216.7280
SEQUENCE:3
DTSTAMP:20260424T230201Z
URL:https://business.salemchamber.org/events/details/garten-gala-10-03-2026-7280
END:VEVENT

END:VCALENDAR
