BEGIN:VCALENDAR
VERSION:2.0
PRODID:-//ChamberMaster//Event Calendar 2.0//EN
METHOD:PUBLISH
X-PUBLISHED-TTL:P3D
REFRESH-INTERVAL:P3D
CALSCALE:GREGORIAN
BEGIN:VEVENT
DTSTART:20260511T183000Z
DTEND:20260511T200000Z
X-MICROSOFT-CDO-ALLDAYEVENT:FALSE
SUMMARY:Forum Speaker Series 2026.05.11
DESCRIPTION:Oregon's Prosperity Roadmap\n\nJoin us for our Forum Speaker Series Luncheon on May 11\, as we welcome Oregon's Chief Prosperity Officer\, Tim Knopp\, to provide an update on the work of the Governor's newly formed Prosperity Council and what it hopes to achieve before delivering its final recommendations on June 30\, 2026.\n\nFeatured Speaker: Tim Knopp\, Oregon's Chief Prosperity Officer and former Oregon Senator\n\nComprising 16 members\, including prominent Oregon business leaders from different regions of the state\, the Prosperity Council is charged with recommending actionable steps to accelerate Oregon's economy\, create good-paying jobs\, and recruit and grow Oregon's businesses.\n\nJoin us to hear Chief Prosperity Officer Knopp's role in this process and his perspective on how this council may be able to help expand our workforce and create a friendlier business climate here in Oregon.\n\nAbout Our Speaker:\n\nTim Knopp served in the Oregon House of Representatives (HD54) from 1999 to 2005 before being elected to the Oregon Senate (SD 27) in 2013. He served as a state senator from 2013 to 2024\, and as the Senate Minority Leader from 2021 to 2024.\n\nHis professional experience includes being the Executive Vice President of the Central Oregon Builders Association and the Executive Director of Building Partners for Affordable Housing. He has also served on the board of First Story\, a nonprofit focused on providing affordable housing.
X-ALT-DESC;FMTTYPE=text/html:<h2><strong>Oregon&#39\;s Prosperity Roadmap</strong></h2>\n\n<p>Join us for our Forum Speaker Series Luncheon on <b>May 11</b>\, as we welcome&nbsp\;<strong>Oregon&#39\;s Chief Prosperity Officer\, Tim Knopp</strong>\, to provide an update on the work of the Governor&#39\;s newly formed Prosperity Council&nbsp\;and what it hopes to achieve before delivering its final recommendations on June 30\, 2026.</p>\n\n<h3><strong>Featured Speaker: Tim Knopp\, Oregon&#39\;s Chief Prosperity Officer and former Oregon Senator</strong></h3>\n\n<p>Comprising 16 members\, including prominent Oregon business leaders from different regions of the state\, the&nbsp\;Prosperity Council is charged with recommending actionable steps to accelerate Oregon&#39\;s economy\, create good-paying jobs\, and recruit and grow Oregon&#39\;s businesses.</p>\n\n<p>Join us to hear Chief Prosperity Officer&nbsp\;Knopp&#39\;s role in this process and his perspective on how this council may be able to help&nbsp\;expand our workforce and create a friendlier business climate here in Oregon.</p>\n\n<p><strong>About Our Speaker:</strong></p>\n\n<p>Tim Knopp served in the Oregon House of Representatives (HD54) from 1999 to 2005 before being elected to the Oregon Senate (SD 27) in 2013. He served as a state senator from 2013 to 2024\, and as the Senate Minority Leader from 2021 to 2024.</p>\n\n<p>His professional experience includes being the Executive Vice President of the Central Oregon Builders Association and the Executive Director of Building Partners for Affordable Housing. He has also&nbsp\;served&nbsp\;on the board of First Story\, a nonprofit focused on providing affordable housing.</p>\n
LOCATION:Salem Convention Center 200 Commercial St SE Salem\, OR 97301
UID:e.3216.7178
SEQUENCE:3
DTSTAMP:20260424T135934Z
URL:https://business.salemchamber.org/events/details/forum-speaker-series-2026-05-11-7178
END:VEVENT

END:VCALENDAR
