BEGIN:VCALENDAR
VERSION:2.0
PRODID:-//ChamberMaster//Event Calendar 2.0//EN
METHOD:PUBLISH
X-PUBLISHED-TTL:P3D
REFRESH-INTERVAL:P3D
CALSCALE:GREGORIAN
BEGIN:VEVENT
DTSTART:20260611T200000Z
DTEND:20260611T220000Z
X-MICROSOFT-CDO-ALLDAYEVENT:FALSE
SUMMARY:Farmers Market
DESCRIPTION:Come taste farm fresh foods at The Springs at Lancaster Village Farmers Market. Take home a market bag full of fresh fruit and vegetables!
X-ALT-DESC;FMTTYPE=text/html:Come taste farm fresh foods at The Springs at Lancaster Village Farmers Market. Take home a market bag full of fresh fruit and vegetables!
LOCATION:4138 Market St NE Salem\, OR 97301
UID:e.3216.7737
SEQUENCE:3
DTSTAMP:20260424T152911Z
URL:https://business.salemchamber.org/events/details/farmers-market-7737
END:VEVENT

END:VCALENDAR
