BEGIN:VCALENDAR
VERSION:2.0
PRODID:-//ChamberMaster//Event Calendar 2.0//EN
METHOD:PUBLISH
X-PUBLISHED-TTL:P3D
REFRESH-INTERVAL:P3D
CALSCALE:GREGORIAN
BEGIN:VEVENT
DTSTART:20260606T150000Z
DTEND:20260606T200000Z
X-MICROSOFT-CDO-ALLDAYEVENT:FALSE
SUMMARY:Doggie Dash Salem
DESCRIPTION:Love animals? Love spoiling your dog? Love giving back? Register for Doggie Dash\, a fundraiser for Oregon Humane! Celebrate all the good things animals bring to our lives by participating in the run/walk/festival in Salem or by doing your own thing as a virtual Dasher. There's no wrong way to Dash! Just by signing up\, you're helping animals in our community! Every step you take and every dollar you raise fuels Oregon Humane's work to rescue animals\, support pet parents\, and celebrate the joyful bond we share with our four-legged friends.
X-ALT-DESC;FMTTYPE=text/html:Love animals? Love spoiling your dog? Love giving back? Register for Doggie Dash\, a fundraiser for Oregon Humane! Celebrate all the good things animals bring to our lives by participating in the run/walk/festival in Salem or by doing your own thing as a virtual Dasher. There&#39\;s no wrong way to Dash! Just by signing up\, you&rsquo\;re helping animals in our community! Every step you take&mdash\;and every dollar you raise&mdash\;fuels Oregon Humane&rsquo\;s work to rescue animals\, support pet parents\, and celebrate the joyful bond we share with our four-legged friends.
LOCATION:Riverfront Park\, Salem
UID:e.3216.7827
SEQUENCE:3
DTSTAMP:20260424T152459Z
URL:https://business.salemchamber.org/events/details/doggie-dash-salem-06-06-2026-7827
END:VEVENT

END:VCALENDAR
