BEGIN:VCALENDAR
VERSION:2.0
PRODID:-//ChamberMaster//Event Calendar 2.0//EN
METHOD:PUBLISH
X-PUBLISHED-TTL:P3D
REFRESH-INTERVAL:P3D
CALSCALE:GREGORIAN
BEGIN:VEVENT
DTSTART:20260411T023000Z
DTEND:20260411T040000Z
X-MICROSOFT-CDO-ALLDAYEVENT:FALSE
SUMMARY:De Tierra Caliente
DESCRIPTION:De Tierra Caliente is a dynamic Latin fusion band that ignites the air with vibrant colors and irresistible rhythms\, creating an infectious atmosphere sure to get everyone up and dancing. Their music combines catchy melodies\; unaffected lyrics\; and a fusion of Latin\, Caribbean\, Brazilian and American rhythms\, resulting in an unforgettable celebration of music and culture. Bring your dancing shoes and be ready to experience all that De Tierra Caliente has to offer!
X-ALT-DESC;FMTTYPE=text/html:De Tierra Caliente is a dynamic Latin fusion band that ignites the air with vibrant colors and irresistible rhythms\, creating an infectious atmosphere sure to get everyone up and dancing. Their music combines catchy melodies\; unaffected lyrics\; and a fusion of Latin\, Caribbean\, Brazilian and American rhythms\, resulting in an unforgettable celebration of music and culture. Bring your dancing shoes and be ready to experience all that De Tierra Caliente has to offer!
LOCATION:Rice Auditorium 344 Knox St N Monmouth\, OR
UID:e.3216.7123
SEQUENCE:3
DTSTAMP:20260423T210116Z
URL:https://business.salemchamber.org/events/details/de-tierra-caliente-7123
END:VEVENT

END:VCALENDAR
