BEGIN:VCALENDAR
VERSION:2.0
PRODID:-//ChamberMaster//Event Calendar 2.0//EN
METHOD:PUBLISH
X-PUBLISHED-TTL:P3D
REFRESH-INTERVAL:P3D
CALSCALE:GREGORIAN
BEGIN:VEVENT
DTSTART:20260522T000000Z
DTEND:20260522T020000Z
X-MICROSOFT-CDO-ALLDAYEVENT:FALSE
SUMMARY:Chamber Business Women After Hours At Clink!
DESCRIPTION:Chamber Business Women After Hours at Clink!\n\nJoin us for an evening of connection\, conversation\, and community in one of Salem's most beautiful and thoughtfully designed gathering spaces.\n\nStep away from the workday and experience a setting intentionally created to bring people together. Clink! blends elevated ambiance with a welcoming atmosphere\, making it the perfect backdrop for meaningful connections.
X-ALT-DESC;FMTTYPE=text/html:<p data-end="370" data-start="283">&nbsp\;</p>\n\n<p data-end="708" data-start="660"><span style="font-size:22px\;"><strong data-end="708" data-start="660">&nbsp\; Chamber Business Women After Hours at Clink!</strong></span></p>\n\n<p data-end="852" data-start="710"><span style="font-size:16px\;">Join us for an evening of connection\, conversation\, and community in one of Salem&rsquo\;s most beautiful and thoughtfully designed gathering spaces.</span></p>\n\n<p data-end="1073" data-start="854"><span style="font-size:16px\;">Step away from the workday and experience a setting intentionally created to bring people together. Clink! blends elevated ambiance with a welcoming atmosphere\, making it the perfect backdrop for meaningful connections.</span></p>\n
LOCATION:Clink! 285 Liberty St NE\, Suite 230 Downtown Salem (The Forge Building)
UID:e.3216.7817
SEQUENCE:3
DTSTAMP:20260424T135412Z
URL:https://business.salemchamber.org/events/details/chamber-business-women-after-hours-at-clink-7817
END:VEVENT

END:VCALENDAR
