BEGIN:VCALENDAR
VERSION:2.0
PRODID:-//ChamberMaster//Event Calendar 2.0//EN
METHOD:PUBLISH
X-PUBLISHED-TTL:P3D
REFRESH-INTERVAL:P3D
CALSCALE:GREGORIAN
BEGIN:VEVENT
DTSTART:20260225T200000Z
DTEND:20260225T210000Z
X-MICROSOFT-CDO-ALLDAYEVENT:FALSE
SUMMARY:Chamber Book Club - Atomic Habits\, Week 4
DESCRIPTION:Join us for our first book club of 2026. Enjoy an intimate gathering of likeminded business professionals focusing on personal growth. This month we will be reading Atomic Habits by James Clear. Whether you read\, listen\, or have ai summarize the chapters we are covering\, please join in us in a lively discussion of how to apply these concepts to our every day lives. \n\n\n\nWeek 1:\n\nNoodle Zone\, 3318 Lancaster Dr NE\n\nCome prepared having read Chapters 1-3\n\n\n\nWeek 2:\n\nJ's Teriyaki\, 613 Lancaster Dr NE\n\nChapter 4-8\n\n\n\nWeek 3:\n\nNorthwest Bagels\, 190 High St SE\n\nChapters 9-14\n\n\n\nWeek 4:\n\nBo & Vine\, 3969 Commercial St SE\n\nChapters 15-20\n\n\n\nWeek 5:\n\nEncore: If you like each other and we want to meet again! We will decide then... Perhaps we meet at Encore Restaurant...??? Yes\, pun intended!
X-ALT-DESC;FMTTYPE=text/html:Join us for our first book club of 2026. Enjoy an intimate gathering of likeminded business professionals focusing on personal growth. This month we will be reading Atomic Habits by James Clear. Whether you read\, listen\, or have ai summarize the chapters we are covering\, please join in us in a lively discussion of how to apply these concepts to our every day lives.&nbsp\;<br />\n<br />\nWeek 1:<br />\nNoodle Zone\, 3318 Lancaster Dr NE<br />\nCome prepared having read Chapters 1-3<br />\n<br />\nWeek 2:<br />\nJ&#39\;s Teriyaki\, 613 Lancaster Dr NE<br />\nChapter 4-8<br />\n<br />\nWeek 3:<br />\nNorthwest Bagels\, 190 High St SE<br />\nChapters 9-14<br />\n<br />\nWeek 4:<br />\nBo &amp\; Vine\, 3969 Commercial St SE<br />\nChapters 15-20<br />\n<br />\nWeek 5:<br />\nEncore: If you like each other and we want to meet again! We will decide then... Perhaps we meet at Encore Restaurant...??? Yes\, pun intended!
LOCATION:Bo & Vine Burgers 3969 Commercial St SE Salem\, OR 97302
UID:e.3216.7332
SEQUENCE:3
DTSTAMP:20260420T143103Z
URL:https://business.salemchamber.org/events/details/chamber-book-club-atomic-habits-week-4-7332
END:VEVENT

END:VCALENDAR
