BEGIN:VCALENDAR
VERSION:2.0
PRODID:-//ChamberMaster//Event Calendar 2.0//EN
METHOD:PUBLISH
X-PUBLISHED-TTL:P3D
REFRESH-INTERVAL:P3D
CALSCALE:GREGORIAN
BEGIN:VEVENT
DTSTART:20260507T140000Z
DTEND:20260507T153000Z
X-MICROSOFT-CDO-ALLDAYEVENT:FALSE
SUMMARY:Business Advocacy: Legislative and Industry Updates
DESCRIPTION:Join us for our next Business Advocacy Meeting on May 7\, key updates and legislation recaps from industry leaders in the restaurant and hospitality industry\, the nursery industry\, Salem Chamber's lobbyist\, and the Oregon State Chamber of Commerce.\n\n\n\nLearn more about our local housing and development hurdles and opportunities\, and an update about the Salem Center Mall Project.\n\n\n\nSpeakers:\n\n\n	Jason Brandt\, President & CEO of the Oregon Restaurant & Lodging Association (ORLA)\n	JL Wilson\, Executive Director at the Oregon State Chamber of Commerce (OSCC)\n	Mike Erdmann\, CEO of the Home Builders Association of Marion & Polk Counties\n	Jeff Stone\, CEO of the Oregon Association of Nurseries\n	Nicole Palmateer Hazelbaker\, the Salem Chamber's contract lobbyist\n	A representative to provide an update on the Salem Center Mall Project\n\n\n- REGISTER HERE -\n\nThis will be a Business Advocacy you won't want to miss! Join us in person or on Zoom for another informative meeting!
X-ALT-DESC;FMTTYPE=text/html:<p>Join us for our next Business Advocacy Meeting on May 7\, key updates and legislation recaps from industry leaders in the restaurant and hospitality industry\, the nursery industry\, Salem Chamber&#39\;s lobbyist\, and the Oregon State Chamber of Commerce.<br />\n<br />\nLearn more about our local housing and development hurdles and opportunities\, and an update about the Salem Center Mall Project.<br />\n<br />\n<strong>Speakers:</strong></p>\n\n<ul>\n	<li><strong>Jason Brandt</strong>\, President &amp\; CEO of the Oregon Restaurant &amp\; Lodging Association (ORLA)</li>\n	<li><b>JL Wilson</b>\, Executive Director at the Oregon State Chamber of Commerce (OSCC)</li>\n	<li><b>Mike Erdmann</b>\, CEO of the Home Builders Association of Marion &amp\; Polk Counties</li>\n	<li><strong>Jeff Stone</strong>\, CEO of the Oregon Association of Nurseries</li>\n	<li><strong>Nicole Palmateer Hazelbaker</strong>\, the Salem Chamber&#39\;s contract lobbyist</li>\n	<li><strong>A representative to provide an update on the Salem Center Mall Project</strong></li>\n</ul>\n\n<h3 style="text-align: center\;"><strong><a href="https://salemchamber.chambermaster.com/eventregistration/register/3894" target="_blank">- REGISTER HERE -</a></strong></h3>\n\n<p>This will be a Business Advocacy you won&#39\;t want to miss! Join us in person or on Zoom for another informative meeting!</p>\n
LOCATION:Salem Area Chamber of Commerce 1110 Commercial St NE Salem\, OR 97301 Meeting also hosted on Zoom (link provided upon registration)
UID:e.3216.3894
SEQUENCE:3
DTSTAMP:20260424T135413Z
URL:https://business.salemchamber.org/events/details/business-advocacy-legislative-and-industry-updates-3894
END:VEVENT

END:VCALENDAR
