BEGIN:VCALENDAR
VERSION:2.0
PRODID:-//ChamberMaster//Event Calendar 2.0//EN
METHOD:PUBLISH
X-PUBLISHED-TTL:P3D
REFRESH-INTERVAL:P3D
CALSCALE:GREGORIAN
BEGIN:VEVENT
DTSTART:20260716T190000Z
DTEND:20260716T210000Z
X-MICROSOFT-CDO-ALLDAYEVENT:FALSE
SUMMARY:Boot Scootin Boogie
DESCRIPTION:Join us for our annual Boot Scootin Boogie Event! Come enjoy a BBQ dinner\, refreshments\, Live music and more at The Springs Living at Lancaster Village.
X-ALT-DESC;FMTTYPE=text/html:Join us for our annual Boot Scootin Boogie Event! Come enjoy a BBQ dinner\, refreshments\, Live music and more at The Springs Living at Lancaster Village.
LOCATION:4138 Market St NE Salem\, OR 97301
UID:e.3216.7740
SEQUENCE:3
DTSTAMP:20260424T170952Z
URL:https://business.salemchamber.org/events/details/boot-scootin-boogie-7740
END:VEVENT

END:VCALENDAR
