BEGIN:VCALENDAR
VERSION:2.0
PRODID:-//ChamberMaster//Event Calendar 2.0//EN
METHOD:PUBLISH
X-PUBLISHED-TTL:P3D
REFRESH-INTERVAL:P3D
CALSCALE:GREGORIAN
BEGIN:VEVENT
DTSTART:20260504T000000Z
DTEND:20260504T030000Z
X-MICROSOFT-CDO-ALLDAYEVENT:FALSE
SUMMARY:Annual St. Joseph the Worker Fundraising Dinner
DESCRIPTION:Together\, the Benedictine Sisters of Mount Angel\, St. Mary Parish\, Mount Angel Abbey and Catholic Community Services invite you to celebrate and help sustain the ministries of St. Joseph Family Shelter on Sunday\, May 3\, 2026\, at the Annual St. Joseph the Worker Fundraising Dinner held at St. Mary Parish in Mount Angel.
X-ALT-DESC;FMTTYPE=text/html:Together\, the Benedictine Sisters of Mount Angel\, St. Mary Parish\, Mount Angel Abbey and Catholic Community Services invite you to celebrate and help sustain the ministries of St. Joseph Family Shelter on Sunday\, May 3\, 2026\, at the Annual St. Joseph the Worker Fundraising Dinner held at St. Mary Parish in Mount Angel.
LOCATION:575 E College St\, Mount Angel\, OR 97362
UID:e.3216.7826
SEQUENCE:3
DTSTAMP:20260423T192320Z
URL:https://business.salemchamber.org/events/details/annual-st-joseph-the-worker-fundraising-dinner-7826
END:VEVENT

END:VCALENDAR
