BEGIN:VCALENDAR
VERSION:2.0
PRODID:-//ChamberMaster//Event Calendar 2.0//EN
METHOD:PUBLISH
X-PUBLISHED-TTL:P3D
REFRESH-INTERVAL:P3D
CALSCALE:GREGORIAN
BEGIN:VEVENT
DTSTART;VALUE=DATE:20260911
DTEND;VALUE=DATE:20260914
TRANSP:TRANSPARENT
X-MICROSOFT-CDO-ALLDAYEVENT:TRUE
SUMMARY:77th Annual Salem Art Fair & Festival
DESCRIPTION:The Salem Art Fair & Festival is a major annual three-day event in Bush's Pasture Park featuring hundreds of juried local and national artists selling fine art and crafts\, live music on multiple stages\, interactive kids' activities\, food\, beer\, and wine\, drawing thousands of visitors for a celebration of arts and community\, with proceeds supporting the Salem Art Association's educational programs.
X-ALT-DESC;FMTTYPE=text/html:<div>The Salem Art Fair &amp\; Festival is a major annual three-day event in&nbsp\;<a class="H23r4e" href="https://www.erinhanson.com/event/salemartfair2025" rel="noopener" style="color: rgb(26\, 13\, 171)\; text-decoration-thickness: 1px\; text-decoration-color: rgb(26\, 13\, 171)\; -webkit-tap-highlight-color: rgba(0\, 0\, 0\, 0.1)\; text-underline-offset: 1px\; outline: 0px\;" target="_blank">Bush&#39\;s Pasture Park</a>&nbsp\;featuring hundreds of juried local and national artists selling fine art and crafts\, live music on multiple stages\, interactive kids&#39\; activities\, food\, beer\, and wine\, drawing thousands of visitors for a celebration of arts and community\, with proceeds supporting the&nbsp\;<a class="H23r4e" href="https://salemart.org/about-saa/" rel="noopener" style="color: rgb(26\, 13\, 171)\; text-decoration-thickness: 1px\; text-decoration-color: rgb(26\, 13\, 171)\; -webkit-tap-highlight-color: rgba(0\, 0\, 0\, 0.1)\; text-underline-offset: 1px\; outline: 0px\;" target="_blank">Salem Art Association&#39\;s</a>&nbsp\;educational programs.&nbsp\;</div>\n\n<div>&nbsp\;</div>\n
LOCATION:Bush's Pasture Park 600 Mission St SE Salem OR 97302
UID:e.3216.7410
SEQUENCE:3
DTSTAMP:20260424T201504Z
URL:https://business.salemchamber.org/events/details/77th-annual-salem-art-fair-festival-7410
END:VEVENT

END:VCALENDAR
